BEGIN:VCALENDAR
VERSION:2.0
PRODID:-//stmarthaharvey.com//eCatholic//EN
X-WR-TIMEZONE:LocalTZ
BEGIN:VTIMEZONE
TZID:LocalTZ
X-LIC-LOCATION:LocalTZ
BEGIN:DAYLIGHT
TZOFFSETFROM:-0600
TZOFFSETTO:-0500
TZNAME:LocalTZ
DTSTART:19700308T020000
RRULE:FREQ=YEARLY;BYMONTH=3;BYDAY=2SU
END:DAYLIGHT
BEGIN:STANDARD
TZOFFSETFROM:-0500
TZOFFSETTO:-0600
TZNAME:LocalTZ
DTSTART:19701101T020000
RRULE:FREQ=YEARLY;BYMONTH=11;BYDAY=1SU
END:STANDARD
END:VTIMEZONE
BEGIN:VEVENT
UID:834806@stmarthaharvey.com
DTSTAMP:20260420T144547Z
DTSTART:20260501T083000
DTEND:20260501T170000
RRULE:FREQ=MONTHLY;BYDAY=FR;BYSETPOS=1
EXDATE:20190705T083000,20200403T083000,20210402T083000,20230407T083000
SUMMARY:Adoration - SM - FIRST FRIDAY OF THE MONTH
END:VEVENT
BEGIN:VEVENT
UID:834807@stmarthaharvey.com
DTSTAMP:20260420T144547Z
DTSTART;VALUE=DATE:20260510
DTEND;VALUE=DATE:20260511
RRULE:FREQ=MONTHLY;BYDAY=SU;BYSETPOS=2
EXDATE:20200412T000000,20230409T000000
SUMMARY:Food Pantry Collection
DESCRIPTION:Food Pantry Collection for SM & IJ - Second Sunday of the Mont
 h St Martha Church and Infant Jesus of Prague Food Pantry Weekend.
END:VEVENT
BEGIN:VEVENT
UID:998775@stmarthaharvey.com
DTSTAMP:20260420T144547Z
DTSTART:20260502T090000
DTEND:20260502T100000
RRULE:FREQ=MONTHLY;BYDAY=SA;BYSETPOS=1
EXDATE:20200404T090000
SUMMARY:IJ - ROSARY
DESCRIPTION:Infant Jesus of Prague Rosary - First Saturday of the Month
END:VEVENT
BEGIN:VEVENT
UID:1021451@stmarthaharvey.com
DTSTAMP:20260420T144547Z
DTSTART:20260422T193000
DTEND:20260422T203000
RRULE:FREQ=MONTHLY;BYDAY=WE;BYSETPOS=4
EXDATE:20190626T193000,20191127T193000,20191225T193000
SUMMARY:CCRWB - IJ
DESCRIPTION:CATHOLIC CHARISMATIC RENEWAL WESTBANK
END:VEVENT
BEGIN:VEVENT
UID:1950708@stmarthaharvey.com
DTSTAMP:20260420T144547Z
DTSTART:20260422T190000
DTEND:20260422T200000
RRULE:FREQ=WEEKLY;BYDAY=WE
EXDATE:20230406T190000,20251231T190000
SUMMARY:Choir Practice -SM Church
END:VEVENT
BEGIN:VEVENT
UID:2534512@stmarthaharvey.com
DTSTAMP:20260420T144547Z
DTSTART:20260426T103100
DTEND:20260426T110000
RRULE:FREQ=WEEKLY;BYDAY=SU
SUMMARY:Children's Liturgy
DESCRIPTION:Liturgy of the Word for Children is a program in which the Sun
 day scripture readings are proclaimed and explained on a level appropriate
  to children attending Kindergarten through Third grade and higher.  \nBef
 ore every Sunday Morning Mass an announcement is made to meet our Children
 ’s Liturgy Catechist in the back of the church to be escorted to our Child
 ren’s Liturgy Room.\n\nAfter a welcome and prayer\, the children are read 
 the Sunday Gospel and given an activity worksheet to help them understand.
   Our ushers will let the catechist know when it’s time to return to Mass.
  \nFollowing a closing prayer\, the children will return to Mass and parti
 cipate in the Presentation of the Gifts before returning to their seat wit
 h their parents.\n\nThe Children Liturgy program begins in September and e
 nds in May.  Any child in this age group may participate.  All Children’s 
 Liturgy Catechists have safe environment training and background checks as
  required by the Archdiocese of New Orleans.\n
END:VEVENT
BEGIN:VEVENT
UID:2559056@stmarthaharvey.com
DTSTAMP:20260420T144547Z
DTSTART:20260425T160000
DTEND:20260425T170000
RRULE:FREQ=WEEKLY;BYDAY=SA
SUMMARY:4:00 pm - IJ - INFANT JESUS VIGIL MASS IN CARMEL HALL
END:VEVENT
BEGIN:VEVENT
UID:2559063@stmarthaharvey.com
DTSTAMP:20260420T144547Z
DTSTART:20260425T173000
DTEND:20260425T183000
RRULE:FREQ=WEEKLY;BYDAY=SA
SUMMARY:5:30 pm - SM - ST MARTHA VIGIL MASS IN CHURCH
END:VEVENT
BEGIN:VEVENT
UID:2559072@stmarthaharvey.com
DTSTAMP:20260420T144547Z
DTSTART:20260426T083000
DTEND:20260426T093000
RRULE:FREQ=WEEKLY;BYDAY=SU
SUMMARY:8:30 AM - ST MARTHA MORNING MASS IN CHURCH
END:VEVENT
BEGIN:VEVENT
UID:2559076@stmarthaharvey.com
DTSTAMP:20260420T144547Z
DTSTART:20260426T103000
DTEND:20260426T113000
RRULE:FREQ=WEEKLY;BYDAY=SU
SUMMARY:10:30 AM - ST MARTHA MORNING MASS IN CHURCH
END:VEVENT
BEGIN:VEVENT
UID:2559080@stmarthaharvey.com
DTSTAMP:20260420T144547Z
DTSTART:20260421T080000
DTEND:20260421T083000
RRULE:FREQ=WEEKLY;BYDAY=TU
SUMMARY:8:00 -ST MARTHA WEEKLY MORNING MASS IN ST MARTHA CHAPEL
END:VEVENT
BEGIN:VEVENT
UID:2559088@stmarthaharvey.com
DTSTAMP:20260420T144547Z
DTSTART:20260422T080000
DTEND:20260422T083000
RRULE:FREQ=WEEKLY;BYDAY=WE
EXDATE:20251231T080000,20260218T080000
SUMMARY:8:00 AM - ST MARTHA WEEKLY MORNING MASS IN ST MARTHA CHAPEL
END:VEVENT
BEGIN:VEVENT
UID:2559095@stmarthaharvey.com
DTSTAMP:20260420T144547Z
DTSTART:20260424T080000
DTEND:20260424T083000
RRULE:FREQ=WEEKLY;BYDAY=FR
SUMMARY:8:00 -ST MARTHA WEEKLY MORNING MASS IN ST MARTHA CHAPEL
END:VEVENT
BEGIN:VEVENT
UID:2721927@stmarthaharvey.com
DTSTAMP:20260420T144547Z
DTSTART:20260426T100000
DTEND:20260426T110000
RRULE:FREQ=WEEKLY;BYDAY=SU
SUMMARY:10:00 AM  IJ - INFANT JESUS SUNDAY MASS
END:VEVENT
BEGIN:VEVENT
UID:2901146@stmarthaharvey.com
DTSTAMP:20260420T144547Z
DTSTART:20260421T180000
DTEND:20260421T190000
RRULE:FREQ=WEEKLY;BYDAY=TU
EXDATE:20260331T180000
SUMMARY:PSR - PARISH SCHOOL OF RELIGION - PSR
DESCRIPTION:PARISH SCHOOL OF RELIGION EDUCATES STUDENTS IN FIRST THROUGH E
 IGHTH GRADE  OUR CATHOLIC FAITH.  PSR ALSO PREPARES OUR STUDENTS FOR THE S
 ACRAMENTS OF RECONCILIATION AND FIRST COMMUNION.  WE ALSO HAVE AVAILABLE P
 ROGRAMS TO HELP STUDENTS CATCH UP TO THEIR UNDERSTANDING OF OUR FAITH. WE 
 HAVE LOTS OF SPIRITUAL ACTIVITIES AND FUN.  PLEASE CALL OFFICE FOR MORE IN
 FORMATION.
END:VEVENT
BEGIN:VEVENT
UID:3012935@stmarthaharvey.com
DTSTAMP:20260420T144547Z
DTSTART:20260423T080000
DTEND:20260423T083000
RRULE:FREQ=WEEKLY;BYDAY=TH
SUMMARY:8:00 -ST MARTHA WEEKLY MORNING MASS IN ST MARTHA CHAPEL
END:VEVENT
BEGIN:VEVENT
UID:3025127@stmarthaharvey.com
DTSTAMP:20260420T144547Z
DTSTART:20260520T170000
DTEND:20260520T180000
RRULE:FREQ=MONTHLY;BYDAY=WE;BYSETPOS=3
SUMMARY:SM - ROSARY GROUP
DESCRIPTION:Monthly Parish Rosary\n As a result of the large turnout at th
 e Fatima presentation and rosary\, several parishioners requested a monthl
 y rosary. We will gather in the day chapel to recite the rosary. and conti
 nue to meet on the 3rd Wednesday of each month. \n.\nThe Holy Rosary is al
 so recited at 5:00 p.m. before 5:30 p.m. mass every Saturday evening yearl
 ong. 
END:VEVENT
END:VCALENDAR
